BEGIN:VCALENDAR
VERSION:2.0
PRODID:-//wp-events-plugin.com//7.2.3.1//EN
TZID:Europe/Berlin
X-WR-TIMEZONE:Europe/Berlin
BEGIN:VEVENT
UID:394@xc-run.de
DTSTART;TZID=Europe/Berlin;VALUE=DATE:20260529
DTEND;TZID=Europe/Berlin;VALUE=DATE:20260531
DTSTAMP:20251109T201006Z
URL:https://xc-run.de/events/eventkalender/schneeberglauf-und-schneebergtr
 ail/
SUMMARY:Schneeberglauf und Schneebergtrail
DESCRIPTION:Ursprünglich lautete das Motto "Mensch gegen Maschine"\, da ma
 n beim Schneeberglauf im Wettstreit gegen eine Lokomotive läuft. Erst 201
 2 wurde der Schneebergtrail ins Leben gerufen und findet im Rahmen des Sch
 neeberglaufs statt.
ATTACH;FMTTYPE=image/jpeg:https://xc-run.de/wp-content/uploads/2025/07/Kal
 enderOhne.jpg
CATEGORIES:Berglauf,Trailevents
LOCATION:Schneeberglauf\, Sticklergasse 3\, Puchberg am Schneeberg\, Öster
 reich
GEO:47.788694;15.911672
X-APPLE-STRUCTURED-LOCATION;VALUE=URI;X-ADDRESS=Sticklergasse 3\, Puchberg 
 am Schneeberg\, Österreich;X-APPLE-RADIUS=100;X-TITLE=Schneeberglauf:geo:
 47.788694,15.911672
END:VEVENT
BEGIN:VTIMEZONE
TZID:Europe/Berlin
X-LIC-LOCATION:Europe/Berlin
BEGIN:DAYLIGHT
DTSTART:20260329T030000
TZOFFSETFROM:+0100
TZOFFSETTO:+0200
TZNAME:CEST
END:DAYLIGHT
END:VTIMEZONE
END:VCALENDAR