BEGIN:VCALENDAR
VERSION:2.0
PRODID:-//wp-events-plugin.com//7.2.3.1//EN
TZID:Europe/Berlin
X-WR-TIMEZONE:Europe/Berlin
BEGIN:VEVENT
UID:332@xc-run.de
DTSTART;TZID=Europe/Berlin;VALUE=DATE:20260515
DTEND;TZID=Europe/Berlin;VALUE=DATE:20260517
DTSTAMP:20251120T201349Z
URL:https://xc-run.de/events/eventkalender/schwarzach-trail-copy/
SUMMARY:Schwarzach Trail
DESCRIPTION:Im Rahmen des Schwarzacher Lauffest gibt es dieses Jahr drei un
 terschiedliche Trailwettkämpfe sowohl für Ultra- und ambitionierte Läuf
 er\, als auch für Einsteiger und Freunde der Kurzstrecke.
ATTACH;FMTTYPE=image/jpeg:https://xc-run.de/wp-content/uploads/2025/07/Kal
 enderOhne.jpg
CATEGORIES:Trailevents
LOCATION:Schwarzach im Pongau\, Marktplatz 1\, Schwarzach im Pongau\, Salzb
 urger Land\, 5620\, Pongau\, Österreich
GEO:47.320911;13.150821
X-APPLE-STRUCTURED-LOCATION;VALUE=URI;X-ADDRESS=Marktplatz 1\, Schwarzach i
 m Pongau\, Salzburger Land\, 5620\, Pongau\, Österreich;X-APPLE-RADIUS=10
 0;X-TITLE=Schwarzach im Pongau:geo:47.320911,13.150821
END:VEVENT
BEGIN:VTIMEZONE
TZID:Europe/Berlin
X-LIC-LOCATION:Europe/Berlin
BEGIN:DAYLIGHT
DTSTART:20260329T030000
TZOFFSETFROM:+0100
TZOFFSETTO:+0200
TZNAME:CEST
END:DAYLIGHT
END:VTIMEZONE
END:VCALENDAR