BEGIN:VCALENDAR
VERSION:2.0
PRODID:-//wp-events-plugin.com//7.2.3.1//EN
TZID:Europe/Berlin
X-WR-TIMEZONE:Europe/Berlin
BEGIN:VEVENT
UID:520@xc-run.de
DTSTART;TZID=Europe/Berlin;VALUE=DATE:20260529
DTEND;TZID=Europe/Berlin;VALUE=DATE:20260531
DTSTAMP:20251105T095137Z
URL:https://xc-run.de/events/eventkalender/seen-lauf-tannheimer-tal/
SUMMARY:Seen-Lauf Tannheimer Tal
DESCRIPTION:Der Seen-Lauf Tannheimer Tal lädt auch dieses Jahr wieder Lauf
 begeisterte aus aller Welt in eine der schönsten Regionen der Alpen ein. 
 Neben einer 12 und einer 25 km langen flachen Distanz werden auch zwei Tra
 ilrun-Strecken angeboten.  Die 12\,5 km und 25 km langen Trails bieten ei
 ne herausfordernde Mischung aus steilen Anstiegen\, technischen Passagen u
 nd atemberaubenden Ausblicken auf die umliegende Bergwelt.
ATTACH;FMTTYPE=image/jpeg:https://xc-run.de/wp-content/uploads/2025/07/Kal
 enderOhne.jpg
CATEGORIES:Trailevents
LOCATION:Nesselwängle\, Weitmoosweg\, Nesselwängle\, Tirol\, Österreich
GEO:47.486647;10.607472
X-APPLE-STRUCTURED-LOCATION;VALUE=URI;X-ADDRESS=Weitmoosweg\, Nesselwängle
 \, Tirol\, Österreich;X-APPLE-RADIUS=100;X-TITLE=Nesselwängle:geo:47.486
 647,10.607472
END:VEVENT
BEGIN:VTIMEZONE
TZID:Europe/Berlin
X-LIC-LOCATION:Europe/Berlin
BEGIN:DAYLIGHT
DTSTART:20260329T030000
TZOFFSETFROM:+0100
TZOFFSETTO:+0200
TZNAME:CEST
END:DAYLIGHT
END:VTIMEZONE
END:VCALENDAR