BEGIN:VCALENDAR
VERSION:2.0
PRODID:-//wp-events-plugin.com//7.2.3.1//EN
TZID:Europe/Berlin
X-WR-TIMEZONE:Europe/Berlin
BEGIN:VEVENT
UID:563@xc-run.de
DTSTART;TZID=Europe/Berlin;VALUE=DATE:20260705
DTEND;TZID=Europe/Berlin;VALUE=DATE:20260706
DTSTAMP:20260317T180759Z
URL:https://xc-run.de/events/eventkalender/seiser-alm-halbmarathon/
SUMMARY:Seiser Alm Halbmarathon
DESCRIPTION:\n\nEinzigartiges Lauferlebnis auf Europas größter Hochalm\n\
 n21 Kilometer\, 601 Höhenmeter und 1000 Startplätze: Das sind die Kennza
 hlen des 13. Seiser Alm Halbmarathon am 5. Juli 2026.  Eingebettet in das
  UNESCO Welterbe der Dolomiten bildet der Seiser Alm Halbmarathon einmalig
 es Naturerlebnis und sportliche Herausforderung für Freizeitsportler und 
 Profis. Neben dem Halbmarathon gibt es auch einen Just for fun Lauf sowie 
 einen Kinderlauf\n\n\nWeitere Informationen zur Veranstaltung:\n\nhttps://
 running.seiseralm.it/de/halbmarathon.html\n\n\n&nbsp\;\n\n
ATTACH;FMTTYPE=image/jpeg:https://xc-run.de/wp-content/uploads/2026/03/Sei
 ser_Alm_Halbmarathon_3_Credits_Armin_Mayr.jpeg
CATEGORIES:Trailevents
LOCATION:Seiser Alm Bahn\, Schlernstraße 1\, Seis am Schlern\, Italien
GEO:46.544926;11.563009
X-APPLE-STRUCTURED-LOCATION;VALUE=URI;X-ADDRESS=Schlernstraße 1\, Seis am 
 Schlern\, Italien;X-APPLE-RADIUS=100;X-TITLE=Seiser Alm Bahn:geo:46.544926
 ,11.563009
END:VEVENT
BEGIN:VTIMEZONE
TZID:Europe/Berlin
X-LIC-LOCATION:Europe/Berlin
BEGIN:DAYLIGHT
DTSTART:20260329T030000
TZOFFSETFROM:+0100
TZOFFSETTO:+0200
TZNAME:CEST
END:DAYLIGHT
END:VTIMEZONE
END:VCALENDAR