BEGIN:VCALENDAR
VERSION:2.0
PRODID:-//wp-events-plugin.com//7.2.3.1//EN
TZID:Europe/Berlin
X-WR-TIMEZONE:Europe/Berlin
BEGIN:VEVENT
UID:369@xc-run.de
DTSTART;TZID=Europe/Berlin;VALUE=DATE:20260710
DTEND;TZID=Europe/Berlin;VALUE=DATE:20260712
DTSTAMP:20251106T200431Z
URL:https://xc-run.de/events/eventkalender/sky-marathon-rosengarten-schler
 n/
SUMMARY:Sky Marathon Rosengarten Schlern
DESCRIPTION:Der Skymarathon Rosengarten Schlern ist einzigartig\, familiär
  und spektakulär. Jährlich am zweiten Wochenende im Juli\, haben 500 Ber
 glaufbegeisterte die Möglichkeit\, in den 2009 als UNESCO-Weltnaturerbe e
 ingestuften Dolomiten einen unvergesslichen Tag zu verbringen.
ATTACH;FMTTYPE=image/jpeg:https://xc-run.de/wp-content/uploads/2025/07/Kal
 enderOhne.jpg
CATEGORIES:Trailevents
LOCATION:Tiers- St. Zyprian\, St. Georg Straße 73\, Tiers- St. Zyprian\, S
 üdtirol\, 39050\, Trentino\, Italien
GEO:46.468426;11.527058
X-APPLE-STRUCTURED-LOCATION;VALUE=URI;X-ADDRESS=St. Georg Straße 73\, Tier
 s- St. Zyprian\, Südtirol\, 39050\, Trentino\, Italien;X-APPLE-RADIUS=100
 ;X-TITLE=Tiers- St. Zyprian:geo:46.468426,11.527058
END:VEVENT
BEGIN:VTIMEZONE
TZID:Europe/Berlin
X-LIC-LOCATION:Europe/Berlin
BEGIN:DAYLIGHT
DTSTART:20260329T030000
TZOFFSETFROM:+0100
TZOFFSETTO:+0200
TZNAME:CEST
END:DAYLIGHT
END:VTIMEZONE
END:VCALENDAR