BEGIN:VCALENDAR
VERSION:2.0
PRODID:-//wp-events-plugin.com//7.2.3.1//EN
TZID:Europe/Berlin
X-WR-TIMEZONE:Europe/Berlin
BEGIN:VEVENT
UID:557@xc-run.de
DTSTART;TZID=Europe/Berlin;VALUE=DATE:20260918
DTEND;TZID=Europe/Berlin;VALUE=DATE:20260920
DTSTAMP:20260104T204551Z
URL:https://xc-run.de/events/eventkalender/sternstein-trail/
SUMMARY:Sternstein Trail
DESCRIPTION:"...von der Stadt auf die Alm ... neue Wege entdecken ... Natur
  erleben ..." lautet das Motto des Sternstein Trails. Angeboten werden ein
 e Marathon-Distanz und ein verkürzter Halbmarathon.
ATTACH;FMTTYPE=image/jpeg:https://xc-run.de/wp-content/uploads/2025/07/Kal
 enderOhne.jpg
CATEGORIES:Trailevents
LOCATION:Sternstein Trail\, Hauptplatz\, Linz\, Österreich
GEO:48.305886;14.286659
X-APPLE-STRUCTURED-LOCATION;VALUE=URI;X-ADDRESS=Hauptplatz\, Linz\, Österr
 eich;X-APPLE-RADIUS=100;X-TITLE=Sternstein Trail:geo:48.305886,14.286659
END:VEVENT
BEGIN:VTIMEZONE
TZID:Europe/Berlin
X-LIC-LOCATION:Europe/Berlin
BEGIN:DAYLIGHT
DTSTART:20260329T030000
TZOFFSETFROM:+0100
TZOFFSETTO:+0200
TZNAME:CEST
END:DAYLIGHT
END:VTIMEZONE
END:VCALENDAR