BEGIN:VCALENDAR
VERSION:2.0
PRODID:-//wp-events-plugin.com//7.2.3.1//EN
TZID:Europe/Berlin
X-WR-TIMEZONE:Europe/Berlin
BEGIN:VEVENT
UID:565@xc-run.de
DTSTART;TZID=Europe/Berlin;VALUE=DATE:20260802
DTEND;TZID=Europe/Berlin;VALUE=DATE:20260803
DTSTAMP:20260317T180535Z
URL:https://xc-run.de/events/eventkalender/stettiner-cup-2/
SUMMARY:Stettiner Cup
DESCRIPTION:Ein beeindruckender Berglauf im Herzen Südtirols! \n\n10 km u
 nd 1255 hm - dazu knackige Trails und unerreichte Aussichten! \n\nEin Hig
 hlight für jeden Bergläufer! Einfach spektakulär! \n\nUnd dank den Org
 ansiatoren - die Bergrettung Moos ist man in besten Händen! 
ATTACH;FMTTYPE=image/jpeg:https://xc-run.de/wp-content/uploads/2026/03/Lar
 ch_Armin_3_Stettiner-Cup_03_08_25_Credits_Sportissimus.jpg
CATEGORIES:Berglauf
LOCATION:Pfelders\, Pfleders\, Italien
GEO:46.795403;11.089047
X-APPLE-STRUCTURED-LOCATION;VALUE=URI;X-ADDRESS=Pfleders\, Italien;X-APPLE-
 RADIUS=100;X-TITLE=Pfelders:geo:46.795403,11.089047
END:VEVENT
BEGIN:VTIMEZONE
TZID:Europe/Berlin
X-LIC-LOCATION:Europe/Berlin
BEGIN:DAYLIGHT
DTSTART:20260329T030000
TZOFFSETFROM:+0100
TZOFFSETTO:+0200
TZNAME:CEST
END:DAYLIGHT
END:VTIMEZONE
END:VCALENDAR