BEGIN:VCALENDAR
VERSION:2.0
PRODID:-//wp-events-plugin.com//7.2.3.1//EN
TZID:Europe/Berlin
X-WR-TIMEZONE:Europe/Berlin
BEGIN:VEVENT
UID:586@xc-run.de
DTSTART;TZID=Europe/Berlin;VALUE=DATE:20260812
DTEND;TZID=Europe/Berlin;VALUE=DATE:20260816
DTSTAMP:20260417T134407Z
URL:https://xc-run.de/events/eventkalender/stranda-fjord-trail-race-2/
SUMMARY:Stranda Fjord Trail Race
DESCRIPTION:Der Geirangerfjord -  DER Spot in Norwegen! Und dort einen Wet
 tkampf laufen?! Unbedingt! Beim Stranda Fjord Trail Race kann man genau da
 s! Die wildeste Seite Norwegens - beeindruckende Fjorde\, flowige Trails!
ATTACH;FMTTYPE=image/jpeg:https://xc-run.de/wp-content/uploads/2025/07/Kal
 enderOhne.jpg
CATEGORIES:Trailevents
LOCATION:Stranda\, Stranda\, Norwegen
GEO:62.309114;6.942409
X-APPLE-STRUCTURED-LOCATION;VALUE=URI;X-ADDRESS=Stranda\, Norwegen;X-APPLE-
 RADIUS=100;X-TITLE=Stranda:geo:62.309114,6.942409
END:VEVENT
BEGIN:VTIMEZONE
TZID:Europe/Berlin
X-LIC-LOCATION:Europe/Berlin
BEGIN:DAYLIGHT
DTSTART:20260329T030000
TZOFFSETFROM:+0100
TZOFFSETTO:+0200
TZNAME:CEST
END:DAYLIGHT
END:VTIMEZONE
END:VCALENDAR