BEGIN:VCALENDAR
VERSION:2.0
PRODID:-//wp-events-plugin.com//7.2.3.1//EN
TZID:Europe/Berlin
X-WR-TIMEZONE:Europe/Berlin
BEGIN:VEVENT
UID:329@xc-run.de
DTSTART;TZID=Europe/Berlin;VALUE=DATE:20260514
DTEND;TZID=Europe/Berlin;VALUE=DATE:20260517
DTSTAMP:20251225T091109Z
URL:https://xc-run.de/events/eventkalender/stuiben-trail-run-copy/
SUMMARY:Stuiben Trail Run
DESCRIPTION:Der Stuibenfall ist mit seinen 159 Metern nicht nur der größt
 e Wasserfall Tirols\, sondern auch das Herzstück der vier unterschiedlich
 en Disziplinen. Beim Stuiben Trailrun müssen – unabhängig von der gew
 ählten Distanz – jeweils exakt 728 beinharte Natur- und Stahlstufen erk
 lommen werden. 
ATTACH;FMTTYPE=image/jpeg:https://xc-run.de/wp-content/uploads/2024/05/Gro
 ss-1-Stuibenrun-001.jpeg
CATEGORIES:Trailevents
LOCATION:Umhausen\, Dorf 24\, Umhausen\, Tirol\, 6441\, Ötztal\, Österrei
 ch
GEO:47.1396;10.927364
X-APPLE-STRUCTURED-LOCATION;VALUE=URI;X-ADDRESS=Dorf 24\, Umhausen\, Tirol\
 , 6441\, Ötztal\, Österreich;X-APPLE-RADIUS=100;X-TITLE=Umhausen:geo:47.
 1396,10.927364
END:VEVENT
BEGIN:VTIMEZONE
TZID:Europe/Berlin
X-LIC-LOCATION:Europe/Berlin
BEGIN:DAYLIGHT
DTSTART:20260329T030000
TZOFFSETFROM:+0100
TZOFFSETTO:+0200
TZNAME:CEST
END:DAYLIGHT
END:VTIMEZONE
END:VCALENDAR