BEGIN:VCALENDAR
VERSION:2.0
PRODID:-//wp-events-plugin.com//7.2.3.1//EN
TZID:Europe/Berlin
X-WR-TIMEZONE:Europe/Berlin
BEGIN:VEVENT
UID:366@xc-run.de
DTSTART;TZID=Europe/Berlin;VALUE=DATE:20250912
DTEND;TZID=Europe/Berlin;VALUE=DATE:20250914
DTSTAMP:20240918T195013Z
URL:https://xc-run.de/events/eventkalender/suedthueringentrail-2/
SUMMARY:Südthüringentrail
DESCRIPTION:Die Bergbaustadt Suhl hat sich für 800 Wichtel\, Riesen und He
 lden vorbereitet und erwartet ein schönes familiäres Trailwochenende. Gr
 oße\, spektakuläre Berggipfel sucht man beim Südthüringentrail vergebe
 ns\, dafür bekommt man aber ein stark welliges Höhenprofil\, dass durch 
 sehr viele Up- und Downhills die Läufer körperlich und mit fortschreiten
 der Länge vor allem auch psychisch fordert. Im Angebot stehen dabei drei 
 unterschiedliche Distanzen.
ATTACH;FMTTYPE=image/jpeg:https://xc-run.de/wp-content/uploads/2021/11/Ver
 anstaltungen_Mittelgebirge.jpg
CATEGORIES:Trailevents
LOCATION:Suhl\, Simsonstraße\, Suhl\, Thüringen\, Deutschland
GEO:50.603663;10.64146
X-APPLE-STRUCTURED-LOCATION;VALUE=URI;X-ADDRESS=Simsonstraße\, Suhl\, Thü
 ringen\, Deutschland;X-APPLE-RADIUS=100;X-TITLE=Suhl:geo:50.603663,10.6414
 6
END:VEVENT
BEGIN:VTIMEZONE
TZID:Europe/Berlin
X-LIC-LOCATION:Europe/Berlin
BEGIN:DAYLIGHT
DTSTART:20250330T030000
TZOFFSETFROM:+0100
TZOFFSETTO:+0200
TZNAME:CEST
END:DAYLIGHT
END:VTIMEZONE
END:VCALENDAR