BEGIN:VCALENDAR
VERSION:2.0
PRODID:-//wp-events-plugin.com//7.2.3.1//EN
TZID:Europe/Berlin
X-WR-TIMEZONE:Europe/Berlin
BEGIN:VEVENT
UID:31@xc-run.de
DTSTART;TZID=Europe/Berlin;VALUE=DATE:20260627
DTEND;TZID=Europe/Berlin;VALUE=DATE:20260629
DTSTAMP:20251229T201720Z
URL:https://xc-run.de/events/eventkalender/swiss-irontrail/
SUMMARY:Swiss Irontrail
DESCRIPTION:Tauche ein in die ultimative Herausforderung des Swiss Irontrai
 l 2026. Ein episches Abenteuer erwartet dich in den beeindruckenden Schwei
 zer Alpen – im wunderschönen Val Surses. Erlebe die unberührte Natur\,
  während du deine Grenzen austestest ...
ATTACH;FMTTYPE=image/jpeg:https://xc-run.de/wp-content/uploads/2025/07/Kal
 enderOhne.jpg
CATEGORIES:Trailevents
LOCATION:Savognin\, Veia La Nars 13\, Savogin\, 7460\, Schweiz
GEO:46.59207;9.598513
X-APPLE-STRUCTURED-LOCATION;VALUE=URI;X-ADDRESS=Veia La Nars 13\, Savogin\,
  7460\, Schweiz;X-APPLE-RADIUS=100;X-TITLE=Savognin:geo:46.59207,9.598513
END:VEVENT
BEGIN:VTIMEZONE
TZID:Europe/Berlin
X-LIC-LOCATION:Europe/Berlin
BEGIN:DAYLIGHT
DTSTART:20260329T030000
TZOFFSETFROM:+0100
TZOFFSETTO:+0200
TZNAME:CEST
END:DAYLIGHT
END:VTIMEZONE
END:VCALENDAR