BEGIN:VCALENDAR
VERSION:2.0
PRODID:-//wp-events-plugin.com//7.2.3.1//EN
TZID:Europe/Berlin
X-WR-TIMEZONE:Europe/Berlin
BEGIN:VEVENT
UID:519@xc-run.de
DTSTART;TZID=Europe/Berlin;VALUE=DATE:20260718
DTEND;TZID=Europe/Berlin;VALUE=DATE:20260720
DTSTAMP:20251115T150613Z
URL:https://xc-run.de/events/eventkalender/swissalpine/
SUMMARY:Swissalpine
DESCRIPTION:Run.Hike.Meet - Der Swissalpine ist mehr als ein Sportanlass 
 – er ist ein Erlebnis für alle\, die die alpine Natur lieben und sich g
 erne draußen bewegen. Inmitten der majestätischen Bergwelt der Schweizer
  Alpen bietet der Event nicht nur spannende Trailrunning-Strecken\, sonder
 n auch eine abwechslungsreiche Hiking-Route\, die dich der Natur noch näh
 erbringen.
ATTACH;FMTTYPE=image/jpeg:https://xc-run.de/wp-content/uploads/2025/01/202
 20911_DanPatitucci_002-Swissalpine.jpg
CATEGORIES:Trailevents
LOCATION:Flims Laax\, Prau la Selva\, Flims Laax\, Schweiz
GEO:46.824503;9.275987
X-APPLE-STRUCTURED-LOCATION;VALUE=URI;X-ADDRESS=Prau la Selva\, Flims Laax\
 , Schweiz;X-APPLE-RADIUS=100;X-TITLE=Flims Laax:geo:46.824503,9.275987
END:VEVENT
BEGIN:VTIMEZONE
TZID:Europe/Berlin
X-LIC-LOCATION:Europe/Berlin
BEGIN:DAYLIGHT
DTSTART:20260329T030000
TZOFFSETFROM:+0100
TZOFFSETTO:+0200
TZNAME:CEST
END:DAYLIGHT
END:VTIMEZONE
END:VCALENDAR