BEGIN:VCALENDAR
VERSION:2.0
PRODID:-//wp-events-plugin.com//7.2.3.1//EN
TZID:Europe/Berlin
X-WR-TIMEZONE:Europe/Berlin
BEGIN:VEVENT
UID:388@xc-run.de
DTSTART;TZID=Europe/Berlin;VALUE=DATE:20260319
DTEND;TZID=Europe/Berlin;VALUE=DATE:20260322
DTSTAMP:20250910T192019Z
URL:https://xc-run.de/events/eventkalender/tenerife-bluetrail/
SUMMARY:Tenerife Bluetrail by UTMB
DESCRIPTION:Auch die größte der kanarischen Inseln hat für uns Trailrunn
 er einiges zu bieten. Und so kann Teneriffa neben dem Teide als höchster 
 Berg Spaniens mit unvergesslichen Naturschönheiten aufwarten. Dieses Jahr
  haben sich die Organisatoren mit der UTMB- Familie einen starken Partner 
 an die Seite geholt. Bei diesem Event gibt es sieben unterschiedliche Dist
 anzen mit einer Länge von 3\,5km bis hin zum 110km langen Ultra.
ATTACH;FMTTYPE=image/jpeg:https://xc-run.de/wp-content/uploads/2025/07/UTM
 B.jpg
CATEGORIES:Trailevents,UTMB World Series
LOCATION:Tenerife Bluetrail\, Piazza Barranco Hondo\, Salida\, Spanien
GEO:28.398576;-16.357695
X-APPLE-STRUCTURED-LOCATION;VALUE=URI;X-ADDRESS=Piazza Barranco Hondo\, Sal
 ida\, Spanien;X-APPLE-RADIUS=100;X-TITLE=Tenerife Bluetrail:geo:28.398576,
 -16.357695
END:VEVENT
BEGIN:VTIMEZONE
TZID:Europe/Berlin
X-LIC-LOCATION:Europe/Berlin
BEGIN:STANDARD
DTSTART:20251026T020000
TZOFFSETFROM:+0200
TZOFFSETTO:+0100
TZNAME:CET
END:STANDARD
END:VTIMEZONE
END:VCALENDAR