BEGIN:VCALENDAR
VERSION:2.0
PRODID:-//wp-events-plugin.com//7.2.3.1//EN
TZID:Europe/Berlin
X-WR-TIMEZONE:Europe/Berlin
BEGIN:VEVENT
UID:491@xc-run.de
DTSTART;TZID=Europe/Berlin;VALUE=DATE:20260630
DTEND;TZID=Europe/Berlin;VALUE=DATE:20260705
DTSTAMP:20260205T203746Z
URL:https://xc-run.de/events/eventkalender/terra-raetica-trails/
SUMMARY:terra raetica trails
DESCRIPTION:Das Terra Raetica Trails Tour Festival bietet einzigartigen Fes
 tivalcharakter und führt in 5 Etappen durch die Erlebnisräume Kaunertal\
 , Tiroler Oberland\, Samnaun\, Nauders und Reschen. Jeden Tag gibt es abwe
 chslungsreiche Trails zwischen 15-27km mit rund 1.100-1.700hm zu entdecken
 . Alle Etappen zählen zur Gesamtwertung\, aber auch Einzelstarts sind mö
 glich. Das Event punktet mit kurzen Transferzeiten\, guter öffentlicher E
 rreichbarkeit und ist als Green Event zertifiziert.
ATTACH;FMTTYPE=image/jpeg:https://xc-run.de/wp-content/uploads/2026/02/Ter
 ra-Raetica-Trails.jpg
CATEGORIES:Etappenrennen,Trailevents
LOCATION:Kaunertal\, Feichten 134\, Feichten im Kaunertal\, Österreich
GEO:47.031047;10.74697
X-APPLE-STRUCTURED-LOCATION;VALUE=URI;X-ADDRESS=Feichten 134\, Feichten im 
 Kaunertal\, Österreich;X-APPLE-RADIUS=100;X-TITLE=Kaunertal:geo:47.031047
 ,10.74697
END:VEVENT
BEGIN:VTIMEZONE
TZID:Europe/Berlin
X-LIC-LOCATION:Europe/Berlin
BEGIN:DAYLIGHT
DTSTART:20260329T030000
TZOFFSETFROM:+0100
TZOFFSETTO:+0200
TZNAME:CEST
END:DAYLIGHT
END:VTIMEZONE
END:VCALENDAR