BEGIN:VCALENDAR
VERSION:2.0
PRODID:-//wp-events-plugin.com//7.2.3.1//EN
TZID:Europe/Berlin
X-WR-TIMEZONE:Europe/Berlin
BEGIN:VEVENT
UID:532@xc-run.de
DTSTART;TZID=Europe/Berlin;VALUE=DATE:20260919
DTEND;TZID=Europe/Berlin;VALUE=DATE:20260920
DTSTAMP:20251222T113658Z
URL:https://xc-run.de/events/eventkalender/tiroler-silberpfad-trophy/
SUMMARY:Tiroler Silberpfad Trophy
DESCRIPTION:Die Tiroler Silberpfad Trophy geht 2026 in die nächste Runde. 
 Der Weitwanderweg Tiroler Silberpfad im Inntal wird wieder zum ultimativen
  Schauplatz für Trailrunner*innen\, Athlet*innen und Laufbegeisterte\, di
 e nicht nur ihre körperlichen Grenzen austesten wollen\, sondern auch ihr
 e mentale Stärke ...
ATTACH;FMTTYPE=image/jpeg:https://xc-run.de/wp-content/uploads/2025/09/Sil
 berpfad200925mf137.JPG.jpg
CATEGORIES:Trailevents
LOCATION:Tiroler Silberpfad Trophy\, Franz Josef Straße 27\, Schwaz\, Öst
 erreich
GEO:47.346682;11.709269
X-APPLE-STRUCTURED-LOCATION;VALUE=URI;X-ADDRESS=Franz Josef Straße 27\, Sc
 hwaz\, Österreich;X-APPLE-RADIUS=100;X-TITLE=Tiroler Silberpfad Trophy:ge
 o:47.346682,11.709269
END:VEVENT
BEGIN:VTIMEZONE
TZID:Europe/Berlin
X-LIC-LOCATION:Europe/Berlin
BEGIN:DAYLIGHT
DTSTART:20260329T030000
TZOFFSETFROM:+0100
TZOFFSETTO:+0200
TZNAME:CEST
END:DAYLIGHT
END:VTIMEZONE
END:VCALENDAR