BEGIN:VCALENDAR
VERSION:2.0
PRODID:-//wp-events-plugin.com//7.2.3.1//EN
TZID:Europe/Berlin
X-WR-TIMEZONE:Europe/Berlin
BEGIN:VEVENT
UID:578@xc-run.de
DTSTART;TZID=Europe/Berlin;VALUE=DATE:20270320
DTEND;TZID=Europe/Berlin;VALUE=DATE:20270322
DTSTAMP:20260416T103042Z
URL:https://xc-run.de/events/eventkalender/torekov-bastad/
SUMMARY:Torekov Bastad
DESCRIPTION:Der Torekov Bastad an der Küste Schwedens -  direkt in Sichtw
 eite zu der dänischen Hauptstadt -  lockt mit wunderschönen Trails und 
 einem frischen Versprechen zu Saisonbeginn: "Du läufst am Meer entlang\, 
 den salzigen Wind im Gesicht und die weite Aussicht vor Augen. Spüre den 
 frischen Duft von Salzwasser und Algen."
ATTACH;FMTTYPE=image/jpeg:https://xc-run.de/wp-content/uploads/2025/07/Kal
 enderOhne.jpg
CATEGORIES:Trailevents
LOCATION:Bastad\, Bastad\, 
GEO:56.433303;12.835379
X-APPLE-STRUCTURED-LOCATION;VALUE=URI;X-ADDRESS=Bastad\, ;X-APPLE-RADIUS=10
 0;X-TITLE=Bastad:geo:56.433303,12.835379
END:VEVENT
BEGIN:VTIMEZONE
TZID:Europe/Berlin
X-LIC-LOCATION:Europe/Berlin
BEGIN:STANDARD
DTSTART:20261025T020000
TZOFFSETFROM:+0200
TZOFFSETTO:+0100
TZNAME:CET
END:STANDARD
END:VTIMEZONE
END:VCALENDAR