BEGIN:VCALENDAR
VERSION:2.0
PRODID:-//wp-events-plugin.com//7.2.3.1//EN
TZID:Europe/Berlin
X-WR-TIMEZONE:Europe/Berlin
BEGIN:VEVENT
UID:349@xc-run.de
DTSTART;TZID=Europe/Berlin;VALUE=DATE:20260904
DTEND;TZID=Europe/Berlin;VALUE=DATE:20260906
DTSTAMP:20251110T200818Z
URL:https://xc-run.de/events/eventkalender/torlauf-dachstein-2-copy/
SUMMARY:Torlauf Dachstein
DESCRIPTION:Der Torlauf entführt uns in die faszinierende\, aber gleichzei
 tig unberechenbare hochalpine Welt des Dachsteinmassivs. Seit 2017 gibt es
  diese Veranstaltung\, die bisher in den meisten Fällen mit widrigen Wett
 ereinflüssen kämpfen musste. Angeboten werden eine 10 km\, Halbmarathon 
 und eine Marathon- Distanz.
ATTACH;FMTTYPE=image/jpeg:https://xc-run.de/wp-content/uploads/2025/07/Kal
 enderOhne.jpg
CATEGORIES:Trailevents
LOCATION:Veranstaltungszentrum Ramsau\, Ramsau 350\, Ramsau am Dachstein\, 
 Steiermark\, 8972\, Dachstein\, Österreich
GEO:47.419989;13.652488
X-APPLE-STRUCTURED-LOCATION;VALUE=URI;X-ADDRESS=Ramsau 350\, Ramsau am Dach
 stein\, Steiermark\, 8972\, Dachstein\, Österreich;X-APPLE-RADIUS=100;X-T
 ITLE=Veranstaltungszentrum Ramsau:geo:47.419989,13.652488
END:VEVENT
BEGIN:VTIMEZONE
TZID:Europe/Berlin
X-LIC-LOCATION:Europe/Berlin
BEGIN:DAYLIGHT
DTSTART:20260329T030000
TZOFFSETFROM:+0100
TZOFFSETTO:+0200
TZNAME:CEST
END:DAYLIGHT
END:VTIMEZONE
END:VCALENDAR