BEGIN:VCALENDAR
VERSION:2.0
PRODID:-//wp-events-plugin.com//7.2.3.1//EN
TZID:Europe/Berlin
X-WR-TIMEZONE:Europe/Berlin
BEGIN:VEVENT
UID:319@xc-run.de
DTSTART;TZID=Europe/Berlin;VALUE=DATE:20260611
DTEND;TZID=Europe/Berlin;VALUE=DATE:20260615
DTSTAMP:20251028T202042Z
URL:https://xc-run.de/events/eventkalender/trail-100-andorra-by-utmb/
SUMMARY:Trail 100 Andorra by UTMB
DESCRIPTION:Bekannt für seine raue und dramatische Landschaft\, die von de
 n Bergen geformt wird\, die dieses atemberaubende Land krönen\, ist Andor
 ra ein Reiseziel\, das ein Gefühl von Abenteuer weckt. Läufer können be
 im Trail 100 Andorra auf Distanzen von 7\,5 km\, 21 km\, 50 km und 105 km 
 die Grenzen ihrer Fähigkeiten testen und gleichzeitig die Schönheit und 
 das reiche kulturelle Erbe Andorras erkunden.
ATTACH;FMTTYPE=image/jpeg:https://xc-run.de/wp-content/uploads/2025/07/UTM
 B.jpg
CATEGORIES:Trailevents,UTMB World Series
LOCATION:Ordino\, Placa La Placeta\, Ordino\, Andorra
GEO:42.556788;1.533006
X-APPLE-STRUCTURED-LOCATION;VALUE=URI;X-ADDRESS=Placa La Placeta\, Ordino\,
  Andorra;X-APPLE-RADIUS=100;X-TITLE=Ordino:geo:42.556788,1.533006
END:VEVENT
BEGIN:VTIMEZONE
TZID:Europe/Berlin
X-LIC-LOCATION:Europe/Berlin
BEGIN:DAYLIGHT
DTSTART:20260329T030000
TZOFFSETFROM:+0100
TZOFFSETTO:+0200
TZNAME:CEST
END:DAYLIGHT
END:VTIMEZONE
END:VCALENDAR