BEGIN:VCALENDAR
VERSION:2.0
PRODID:-//wp-events-plugin.com//7.2.3.1//EN
TZID:Europe/Berlin
X-WR-TIMEZONE:Europe/Berlin
BEGIN:VEVENT
UID:321@xc-run.de
DTSTART;TZID=Europe/Berlin;VALUE=DATE:20260514
DTEND;TZID=Europe/Berlin;VALUE=DATE:20260518
DTSTAMP:20251225T200801Z
URL:https://xc-run.de/events/eventkalender/trail-alsace-grand-est-by-utmb/
SUMMARY:Trail Alsace Grand Est by UTMB
DESCRIPTION:Zwischen Schlössern und Burgen kann man das Panorama über das
  Elsass\, den Schwarzwald und oft auch die Alpen genießen. Mit fünf unte
 rschiedlichen Distanzen zwischen 17km und 158km kann man in die fasziniere
 nde Welt des mittelalterlichen Elsass eintauchen.
ATTACH;FMTTYPE=image/jpeg:https://xc-run.de/wp-content/uploads/2025/07/UTM
 B.jpg
CATEGORIES:Trailevents,UTMB World Series
LOCATION:Obernai\, Pl de la Salle des Fetes\, Obernai\, Elsass\, Frankreich
GEO:48.459956;7.483508
X-APPLE-STRUCTURED-LOCATION;VALUE=URI;X-ADDRESS=Pl de la Salle des Fetes\, 
 Obernai\, Elsass\, Frankreich;X-APPLE-RADIUS=100;X-TITLE=Obernai:geo:48.45
 9956,7.483508
END:VEVENT
BEGIN:VTIMEZONE
TZID:Europe/Berlin
X-LIC-LOCATION:Europe/Berlin
BEGIN:DAYLIGHT
DTSTART:20260329T030000
TZOFFSETFROM:+0100
TZOFFSETTO:+0200
TZNAME:CEST
END:DAYLIGHT
END:VTIMEZONE
END:VCALENDAR