BEGIN:VCALENDAR
VERSION:2.0
PRODID:-//wp-events-plugin.com//7.2.3.1//EN
TZID:Europe/Berlin
X-WR-TIMEZONE:Europe/Berlin
BEGIN:VEVENT
UID:481@xc-run.de
DTSTART;TZID=Europe/Berlin;VALUE=DATE:20260425
DTEND;TZID=Europe/Berlin;VALUE=DATE:20260427
DTSTAMP:20251027T193429Z
URL:https://xc-run.de/events/eventkalender/trail-du-grand-ballon/
SUMMARY:Trail du Grand Ballon
DESCRIPTION:Der Trail du Grand Ballon in Rouffach am Fuße der Vogesen zäh
 lt mit über 4.000 Teilnehmern aus 20 Nationen zu den größten Trailrunni
 ng Events im mitteleuropäischen Raum und gilt für den Großteil der Teil
 nehmer als Auftakt in die Wettkampf Saison. Der Hauptlauf mit dem höchste
 n Punkt auf dem Gipfel des Petit Ballon ist mit 75 km und 3.653 Höhenmete
 rn um diese Jahreszeit auch für die Top-Athleten schon eine ordentliche H
 erausforderung. Daneben gibt es sechs kürzere Strecken zwischen 62 km und
  21 km.
ATTACH;FMTTYPE=image/jpeg:https://xc-run.de/wp-content/uploads/2025/07/Kal
 enderOhne.jpg
CATEGORIES:Trailevents
LOCATION:Rouffach\, Rue de Stade\, Rouffach\, Elsass\, Frankreich
GEO:47.957064;7.299417
X-APPLE-STRUCTURED-LOCATION;VALUE=URI;X-ADDRESS=Rue de Stade\, Rouffach\, E
 lsass\, Frankreich;X-APPLE-RADIUS=100;X-TITLE=Rouffach:geo:47.957064,7.299
 417
END:VEVENT
BEGIN:VTIMEZONE
TZID:Europe/Berlin
X-LIC-LOCATION:Europe/Berlin
BEGIN:DAYLIGHT
DTSTART:20260329T030000
TZOFFSETFROM:+0100
TZOFFSETTO:+0200
TZNAME:CEST
END:DAYLIGHT
END:VTIMEZONE
END:VCALENDAR