BEGIN:VCALENDAR
VERSION:2.0
PRODID:-//wp-events-plugin.com//7.2.3.1//EN
TZID:Europe/Berlin
X-WR-TIMEZONE:Europe/Berlin
BEGIN:VEVENT
UID:462@xc-run.de
DTSTART;TZID=Europe/Berlin;VALUE=DATE:20260710
DTEND;TZID=Europe/Berlin;VALUE=DATE:20260713
DTSTAMP:20251020T190634Z
URL:https://xc-run.de/events/eventkalender/trail-verbier-st-verbier-by-utm
 b/
SUMMARY:Trail Verbier St-Verbier by UTMB
DESCRIPTION:Der seit 2009 im Kanton Wallis organisierte Trail Verbier St Be
 rnard by UTMB war der erste Ultra-Trail der Schweiz. Mittlerweile gehört 
 dieser Lauf zur UTMB World Series. Dabei führt die längste Strecke von V
 erbier zum Grossen St. Bernhard und durchquert die Täler von Bagnes\, Ent
 remont und Ferret. Diese 140km lange Distanz ist das Aushängeschild der V
 eranstaltung. Die anderen Distanzen umfassen eine 76 Kilometer lange Strec
 ke ab La Fouly\, einen 42 Kilometer langen Marathon mit Start oberhalb von
  Bruson und eine 26 Kilometer lange Rundstrecke oberhalb von Verbier.
ATTACH;FMTTYPE=image/jpeg:https://xc-run.de/wp-content/uploads/2025/07/UTM
 B.jpg
CATEGORIES:Trailevents,UTMB World Series
LOCATION:Verbier\, R. de la Poste\, Verbier\, Wallis\, Schweiz
GEO:46.09681;7.226296
X-APPLE-STRUCTURED-LOCATION;VALUE=URI;X-ADDRESS=R. de la Poste\, Verbier\, 
 Wallis\, Schweiz;X-APPLE-RADIUS=100;X-TITLE=Verbier:geo:46.09681,7.226296
END:VEVENT
BEGIN:VTIMEZONE
TZID:Europe/Berlin
X-LIC-LOCATION:Europe/Berlin
BEGIN:DAYLIGHT
DTSTART:20260329T030000
TZOFFSETFROM:+0100
TZOFFSETTO:+0200
TZNAME:CEST
END:DAYLIGHT
END:VTIMEZONE
END:VCALENDAR