BEGIN:VCALENDAR
VERSION:2.0
PRODID:-//wp-events-plugin.com//7.2.3.1//EN
TZID:Europe/Berlin
X-WR-TIMEZONE:Europe/Berlin
BEGIN:VEVENT
UID:137@xc-run.de
DTSTART;TZID=Europe/Berlin;VALUE=DATE:20260828
DTEND;TZID=Europe/Berlin;VALUE=DATE:20260904
DTSTAMP:20251115T201701Z
URL:https://xc-run.de/events/eventkalender/transalpine-run-2/
SUMMARY:Transalpine Run powered by Garmin
DESCRIPTION:Der Transalpine Run powered by Garmin gehört nun auch zur IRON
 MAN-Group und erhält eine komplette Frischzellenkur. Was bleibt sind ist 
 der 7-tägige Etappenlauf für 2-er Teams oder Einzelläufer und auch der 
 Run2 wird wieder stattfinden. Komplett neu wird die Strecke von Lenzerheid
 e nach Locarno am Lago Maggiore. Die komplett neue Route verspricht ein ei
 nmalige alpines & mediterranes Ambiente\, gepaart mit grandiosen und mitun
 ter sehr einsamen Trails. Zu den Highlights gehören die Rheinschlucht\, d
 ie Greina Hochebene\, die Tessiner Säumerpfade und der Lago Maggiore. Det
 ails zur Strecke werden rechtzeitig vor der Anmeldung bekannt gegeben.
ATTACH;FMTTYPE=image/jpeg:https://xc-run.de/wp-content/uploads/2025/07/Kal
 enderOhne.jpg
CATEGORIES:Etappenrennen,Trailevents
LOCATION:Lenzerheide\, Plam de Roisch 2\, Lenzerheide\, Graubünden\, 7078\
 , Graubünden\, Schweiz
GEO:46.726325;9.556851
X-APPLE-STRUCTURED-LOCATION;VALUE=URI;X-ADDRESS=Plam de Roisch 2\, Lenzerhe
 ide\, Graubünden\, 7078\, Graubünden\, Schweiz;X-APPLE-RADIUS=100;X-TITL
 E=Lenzerheide:geo:46.726325,9.556851
END:VEVENT
BEGIN:VTIMEZONE
TZID:Europe/Berlin
X-LIC-LOCATION:Europe/Berlin
BEGIN:DAYLIGHT
DTSTART:20260329T030000
TZOFFSETFROM:+0100
TZOFFSETTO:+0200
TZNAME:CEST
END:DAYLIGHT
END:VTIMEZONE
END:VCALENDAR