BEGIN:VCALENDAR
VERSION:2.0
PRODID:-//wp-events-plugin.com//7.2.3.1//EN
TZID:Europe/Berlin
X-WR-TIMEZONE:Europe/Berlin
BEGIN:VEVENT
UID:483@xc-run.de
DTSTART;TZID=Europe/Berlin;VALUE=DATE:20261024
DTEND;TZID=Europe/Berlin;VALUE=DATE:20261026
DTSTAMP:20251201T202913Z
URL:https://xc-run.de/events/eventkalender/transruinaulta-und-transviamala
 /
SUMMARY:Transruinaulta und Transviamala
DESCRIPTION:Der Transruinaulta Trailmarathon und traditionsreiche Transviam
 ala bilden zusammen ein Etappenrennen der Extraklasse. 2 Schluchten\, entl
 ang dem Vorder- und dem Hinterrhein bilden die Kulisse für ein unvergessl
 iches und intensives Abenteuer. Am Samstag ein genussreicher Trailmarathon
  über 42 Kilometer durch die spektakuläre Ruinaulta-Schlucht und am Sonn
 tag der anspruchsvolle Transviamala über 19 Kilometer mitten durch die Vi
 amala-Schlucht.
ATTACH;FMTTYPE=image/jpeg:https://xc-run.de/wp-content/uploads/2025/07/Kal
 enderOhne.jpg
CATEGORIES:Etappenrennen,Trailevents
LOCATION:Thusis\, Neudorfstraße\, Thusis\, Graubünden\, Schweiz
GEO:46.699176;9.439635
X-APPLE-STRUCTURED-LOCATION;VALUE=URI;X-ADDRESS=Neudorfstraße\, Thusis\, G
 raubünden\, Schweiz;X-APPLE-RADIUS=100;X-TITLE=Thusis:geo:46.699176,9.439
 635
END:VEVENT
BEGIN:VTIMEZONE
TZID:Europe/Berlin
X-LIC-LOCATION:Europe/Berlin
BEGIN:DAYLIGHT
DTSTART:20260329T030000
TZOFFSETFROM:+0100
TZOFFSETTO:+0200
TZNAME:CEST
END:DAYLIGHT
BEGIN:STANDARD
DTSTART:20261025T020000
TZOFFSETFROM:+0200
TZOFFSETTO:+0100
TZNAME:CET
END:STANDARD
END:VTIMEZONE
END:VCALENDAR