BEGIN:VCALENDAR
VERSION:2.0
PRODID:-//wp-events-plugin.com//7.2.3.1//EN
TZID:Europe/Berlin
X-WR-TIMEZONE:Europe/Berlin
BEGIN:VEVENT
UID:224@xc-run.de
DTSTART;TZID=Europe/Berlin;VALUE=DATE:20260507
DTEND;TZID=Europe/Berlin;VALUE=DATE:20260510
DTSTAMP:20251115T202808Z
URL:https://xc-run.de/events/eventkalender/transvulcania-2021/
SUMMARY:Transvulcania
DESCRIPTION:Seit seinem Premierenjahr 2013 sorgt der Transvulcania für Fur
 ore und kann jedes Jahr mit einem international anerkannten Starterfeld au
 fwarten. Dieser außergewöhnliche Event ist auf der kanarischen Insel La 
 Palma beheimatet\, die bei den Startern für die klimatisch gegensätzlich
 en Bedingungen berühmt und berüchtigt ist. Herzstück dieser Veranstaltu
 ng ist der 73 km lange Ultramarathon mit einem positiven Höhenunterschied
  von insgesamt 4.400 HM. Nach dem Gänsehaut-Start am Leuchtturm in finste
 rer Nacht beginnt die Schinderei auf dem Rücken des Vulkans.
ATTACH;FMTTYPE=image/jpeg:https://xc-run.de/wp-content/uploads/2025/07/Kal
 enderOhne.jpg
CATEGORIES:Trailevents
LOCATION:Santa Cruz de la Palma\, Avendia de los Indianos 14\, Santa Cruz d
 e la Palma\, Islas Canarias\, 38700\, Spanien
GEO:28.678112;-17.769867
X-APPLE-STRUCTURED-LOCATION;VALUE=URI;X-ADDRESS=Avendia de los Indianos 14\
 , Santa Cruz de la Palma\, Islas Canarias\, 38700\, Spanien;X-APPLE-RADIUS
 =100;X-TITLE=Santa Cruz de la Palma:geo:28.678112,-17.769867
END:VEVENT
BEGIN:VTIMEZONE
TZID:Europe/Berlin
X-LIC-LOCATION:Europe/Berlin
BEGIN:DAYLIGHT
DTSTART:20260329T030000
TZOFFSETFROM:+0100
TZOFFSETTO:+0200
TZNAME:CEST
END:DAYLIGHT
END:VTIMEZONE
END:VCALENDAR