BEGIN:VCALENDAR
VERSION:2.0
PRODID:-//wp-events-plugin.com//7.2.3.1//EN
TZID:Europe/Berlin
X-WR-TIMEZONE:Europe/Berlin
BEGIN:VEVENT
UID:399@xc-run.de
DTSTART;TZID=Europe/Berlin;VALUE=DATE:20260521
DTEND;TZID=Europe/Berlin;VALUE=DATE:20260524
DTSTAMP:20251028T201718Z
URL:https://xc-run.de/events/eventkalender/transylvania-100/
SUMMARY:Transylvania 100
DESCRIPTION:Ursprünglicher kann ein Lauf kaum sein - Wo verläuft die Stre
 cke durch unberührte Natur\, wo ist jederzeit mit der Begegnung mit Bäre
 n zu rechnen? All dies ist mitten in den Karpaten beim Transylvania 100 mi
 t seinen fünf unterschiedlichen Distanzen zwischen 20k und 100k möglich.
ATTACH;FMTTYPE=image/jpeg:https://xc-run.de/wp-content/uploads/2025/07/Kal
 enderOhne.jpg
CATEGORIES:Trailevents
LOCATION:Transsylvania\, Sports Hall\, Bran\, Karpaten\, Rumänien
GEO:45.519192;25.369683
X-APPLE-STRUCTURED-LOCATION;VALUE=URI;X-ADDRESS=Sports Hall\, Bran\, Karpat
 en\, Rumänien;X-APPLE-RADIUS=100;X-TITLE=Transsylvania:geo:45.519192,25.3
 69683
END:VEVENT
BEGIN:VTIMEZONE
TZID:Europe/Berlin
X-LIC-LOCATION:Europe/Berlin
BEGIN:DAYLIGHT
DTSTART:20260329T030000
TZOFFSETFROM:+0100
TZOFFSETTO:+0200
TZNAME:CEST
END:DAYLIGHT
END:VTIMEZONE
END:VCALENDAR