BEGIN:VCALENDAR
VERSION:2.0
PRODID:-//wp-events-plugin.com//7.2.3.1//EN
TZID:Europe/Berlin
X-WR-TIMEZONE:Europe/Berlin
BEGIN:VEVENT
UID:469@xc-run.de
DTSTART;TZID=Europe/Berlin;VALUE=DATE:20260821
DTEND;TZID=Europe/Berlin;VALUE=DATE:20260823
DTSTAMP:20251109T201900Z
URL:https://xc-run.de/events/eventkalender/triglav-trail-run/
SUMMARY:Triglav Trail Run
DESCRIPTION:Der namensgebende Triglav ist mit einer Höhe von 2864 m der h
 öchste Gipfel Sloweniens und der Julischen Alpen. Am Fuße dieses markant
 en und weithin sichtbaren Berges findet das Triglav Trail Run Festival sta
 tt. Ausgangspunkt ist dabei der Ort Mojstrana in der Gemeinde Kranjska Gor
 a. Dieses dreitägige Festival ist auf die Bedürfnisse von Läufern und B
 ergsteigern zugeschnitten und bietet ein interessantes und abechslungsreic
 hes Programm. Für Läufer werden vier Distanzen zwischen 12 km und 77 km 
 angeboten.
ATTACH;FMTTYPE=image/jpeg:https://xc-run.de/wp-content/uploads/2025/07/Kal
 enderOhne.jpg
CATEGORIES:Trailevents
LOCATION:Mojstrana\, Triglavska Cesta\, Mojstrana\, Slowenien
GEO:46.436009;13.89002
X-APPLE-STRUCTURED-LOCATION;VALUE=URI;X-ADDRESS=Triglavska Cesta\, Mojstran
 a\, Slowenien;X-APPLE-RADIUS=100;X-TITLE=Mojstrana:geo:46.436009,13.89002
END:VEVENT
BEGIN:VTIMEZONE
TZID:Europe/Berlin
X-LIC-LOCATION:Europe/Berlin
BEGIN:DAYLIGHT
DTSTART:20260329T030000
TZOFFSETFROM:+0100
TZOFFSETTO:+0200
TZNAME:CEST
END:DAYLIGHT
END:VTIMEZONE
END:VCALENDAR