BEGIN:VCALENDAR
VERSION:2.0
PRODID:-//wp-events-plugin.com//7.2.3.1//EN
TZID:Europe/Berlin
X-WR-TIMEZONE:Europe/Berlin
BEGIN:VEVENT
UID:553@xc-run.de
DTSTART;TZID=Europe/Berlin;VALUE=DATE:20260821
DTEND;TZID=Europe/Berlin;VALUE=DATE:20260823
DTSTAMP:20251121T204043Z
URL:https://xc-run.de/events/eventkalender/trippy-trail/
SUMMARY:Trippy Trail
DESCRIPTION:Der Trippy Trail ist ein unvergessliches Erlebnis im Herzen der
  Dolomiten. Es werden eine 50k und eine 100k Strecke angeboten\, die beide
  am Nigerpass starten und enden. Die Route durchquert die höchsten Gebirg
 szüge der italienischen Dolomiten und verbindet abgelegene Bergrücken\, 
 einsame Täler und Orte\, die den meisten Menschen verborgen bleiben. Erwa
 rten Sie lange Abschnitte oberhalb der Baumgrenze\, technisch anspruchsvol
 le Trails\, exponierte Passagen und anspruchsvolle Wander- und Laufabschni
 tte. Im starken Kontrast zur Unwirtlichkeit des Geländes öffnen sorgfäl
 tig ausgewählte Rifugios ihre Tore als Kontrollpunkte und bieten Gastfreu
 ndschaft\, Essen\, Getränke und  falls notwendig eine Unterkunft an. Es 
 gibt keine Zeitbegrenzung. Wir feiern die Finisher am Sonntagabend im Ahoi
  Minigolf in Bozen\, und das Team wartet dort auf den letzten Teilnehmer. 
 Je nach Fitnesslevel sollten Sie für die 100 km etwa 2 Tage und für die 
 50 km etwa 1 Tag einplanen.
ATTACH;FMTTYPE=image/jpeg:https://xc-run.de/wp-content/uploads/2025/07/Kal
 enderOhne.jpg
CATEGORIES:Trailevents
LOCATION:Bozen\, Wassermauer Promenade\, Bozen\, Italien
GEO:46.509803;11.351187
X-APPLE-STRUCTURED-LOCATION;VALUE=URI;X-ADDRESS=Wassermauer Promenade\, Boz
 en\, Italien;X-APPLE-RADIUS=100;X-TITLE=Bozen:geo:46.509803,11.351187
END:VEVENT
BEGIN:VTIMEZONE
TZID:Europe/Berlin
X-LIC-LOCATION:Europe/Berlin
BEGIN:DAYLIGHT
DTSTART:20260329T030000
TZOFFSETFROM:+0100
TZOFFSETTO:+0200
TZNAME:CEST
END:DAYLIGHT
END:VTIMEZONE
END:VCALENDAR