BEGIN:VCALENDAR
VERSION:2.0
PRODID:-//wp-events-plugin.com//7.2.3.1//EN
TZID:Europe/Berlin
X-WR-TIMEZONE:Europe/Berlin
BEGIN:VEVENT
UID:333@xc-run.de
DTSTART;TZID=Europe/Berlin;VALUE=DATE:20260612
DTEND;TZID=Europe/Berlin;VALUE=DATE:20260614
DTSTAMP:20260416T183936Z
URL:https://xc-run.de/events/eventkalender/tschirgant-sky-run-copy/
SUMMARY:Tschirgant Sky Run
DESCRIPTION:Hoch über Imst erhebt sich der Namensgebende Tschirgant\, der 
 über dem Inntal thront. Besonders beeindruckend dabei ist der ca. 10 km l
 ange Trail am Grat zwischen Gurgltal und Inntal. Technischen Trails\, krä
 fteraubende Uphills und atemberaubende Ausblicke sind das Erfolgsrezept di
 eser Veranstaltung. Es werden vier unterschiedliche Distanzen angeboten un
 d darüber hinaus gibt es noch das Rosengarten Nightrace
ATTACH;FMTTYPE=image/jpeg:https://xc-run.de/wp-content/uploads/2023/06/Tsc
 hirgant-Skyrun-2023-42.jpg
CATEGORIES:Skyrunning,Trailevents
LOCATION:Glenthof\, Am Raum\, Imst\, Tirol\, 6460\, Tirol\, Österreich
GEO:47.242255;10.746642
X-APPLE-STRUCTURED-LOCATION;VALUE=URI;X-ADDRESS=Am Raum\, Imst\, Tirol\, 64
 60\, Tirol\, Österreich;X-APPLE-RADIUS=100;X-TITLE=Glenthof:geo:47.242255
 ,10.746642
END:VEVENT
BEGIN:VTIMEZONE
TZID:Europe/Berlin
X-LIC-LOCATION:Europe/Berlin
BEGIN:DAYLIGHT
DTSTART:20260329T030000
TZOFFSETFROM:+0100
TZOFFSETTO:+0200
TZNAME:CEST
END:DAYLIGHT
END:VTIMEZONE
END:VCALENDAR