BEGIN:VCALENDAR
VERSION:2.0
PRODID:-//wp-events-plugin.com//7.2.3.1//EN
TZID:Europe/Berlin
X-WR-TIMEZONE:Europe/Berlin
BEGIN:VEVENT
UID:83@xc-run.de
DTSTART;TZID=Europe/Berlin;VALUE=DATE:20260514
DTEND;TZID=Europe/Berlin;VALUE=DATE:20260518
DTSTAMP:20260213T155735Z
URL:https://xc-run.de/events/eventkalender/ultra-trail-australia/
SUMMARY:Ultra Trail Australia by UTMB
DESCRIPTION:Der Ultra Trail Australia ist führt durch das Unesco Weltnatur
 erbe\, den Blue Mountains National Park. Spektakuläre Natur\, verschlunge
 ne\, anspruchsvolle Trails und 951 Treppenstufen bis zum Ziel - ein Trailr
 unning Erlebnis! Die angebotenen Distanz reichen von 11 bis 100 km.
ATTACH;FMTTYPE=image/jpeg:https://xc-run.de/wp-content/uploads/2022/02/car
 ousel_cliff_vista_runner_right_hero_2021_50b623a33c.jpg
CATEGORIES:Trailevents,UTMB World Series
LOCATION:Scenic World\, Scenic World\, Scenic World\, Australien
GEO:-33.7288012;150.30115490000003
X-APPLE-STRUCTURED-LOCATION;VALUE=URI;X-ADDRESS=Scenic World\, Scenic World
 \, Australien;X-APPLE-RADIUS=100;X-TITLE=Scenic World:geo:-33.7288012,150.
 30115490000003
END:VEVENT
BEGIN:VTIMEZONE
TZID:Europe/Berlin
X-LIC-LOCATION:Europe/Berlin
BEGIN:DAYLIGHT
DTSTART:20260329T030000
TZOFFSETFROM:+0100
TZOFFSETTO:+0200
TZNAME:CEST
END:DAYLIGHT
END:VTIMEZONE
END:VCALENDAR