BEGIN:VCALENDAR
VERSION:2.0
PRODID:-//wp-events-plugin.com//7.2.3.1//EN
TZID:Europe/Berlin
X-WR-TIMEZONE:Europe/Berlin
BEGIN:VEVENT
UID:320@xc-run.de
DTSTART;TZID=Europe/Berlin;VALUE=DATE:20260515
DTEND;TZID=Europe/Berlin;VALUE=DATE:20260518
DTSTAMP:20251225T201355Z
URL:https://xc-run.de/events/eventkalender/ultra-trail-snowdonia-by-utmb/
SUMMARY:Ultra Trail Snowdonia by UTMB
DESCRIPTION:Er gilt als eines der anspruchsvollsten und härtesten Events: 
 Der Ultra Trail Snowdonia by UTMB\, der vom 15. bis 17. Mai in der spektak
 ulären und herausfordernden Bergwildnis von Nordwales im Vereinigten Kön
 igreich stattfindet. Rund 1.130 Athleten aus 43 Nationen werden sich einer
  von drei Distanzen stellen – den UTS 50 km\, UTS 100 km und dem außerg
 ewöhnlich harten 100-Meilen-Lauf\, den UTS 165 km.
ATTACH;FMTTYPE=image/jpeg:https://xc-run.de/wp-content/uploads/2025/07/UTM
 B.jpg
CATEGORIES:Trailevents,UTMB World Series
LOCATION:Llanberis\, Parc Padarn\, Llanberis\, Snowdonia\, Wales
GEO:53.121827;-4.115237
X-APPLE-STRUCTURED-LOCATION;VALUE=URI;X-ADDRESS=Parc Padarn\, Llanberis\, S
 nowdonia\, Wales;X-APPLE-RADIUS=100;X-TITLE=Llanberis:geo:53.121827,-4.115
 237
END:VEVENT
BEGIN:VTIMEZONE
TZID:Europe/Berlin
X-LIC-LOCATION:Europe/Berlin
BEGIN:DAYLIGHT
DTSTART:20260329T030000
TZOFFSETFROM:+0100
TZOFFSETTO:+0200
TZNAME:CEST
END:DAYLIGHT
END:VTIMEZONE
END:VCALENDAR