BEGIN:VCALENDAR
VERSION:2.0
PRODID:-//wp-events-plugin.com//7.2.3.1//EN
TZID:Europe/Berlin
X-WR-TIMEZONE:Europe/Berlin
BEGIN:VEVENT
UID:413@xc-run.de
DTSTART;TZID=Europe/Berlin;VALUE=DATE:20260424
DTEND;TZID=Europe/Berlin;VALUE=DATE:20260427
DTSTAMP:20251225T200446Z
URL:https://xc-run.de/events/eventkalender/ultra-trail-vipava-valley/
SUMMARY:Ultra Trail Vipava Valley UTVV
DESCRIPTION:Slowenien ist bekannt für die Schönheit zwischen der Alpen-\,
  Karst- und Mittelmeerwelt. Laufen Sie zwischen mittelalterlichen Dörfern
 \, Schlössern\, Klöstern und Weinbergen. Erklimmen Sie die umliegenden H
 ügel und genießen Sie die atemberaubende Aussicht von den Alpen bis zur 
 Adria.
ATTACH;FMTTYPE=image/jpeg:https://xc-run.de/wp-content/uploads/2025/07/Kal
 enderOhne.jpg
CATEGORIES:Trailevents
LOCATION:Ajdovscina\, Goriska Cesta\, Ajdovscina\, Slowenien
GEO:45.887129;13.897505
X-APPLE-STRUCTURED-LOCATION;VALUE=URI;X-ADDRESS=Goriska Cesta\, Ajdovscina\
 , Slowenien;X-APPLE-RADIUS=100;X-TITLE=Ajdovscina:geo:45.887129,13.897505
END:VEVENT
BEGIN:VTIMEZONE
TZID:Europe/Berlin
X-LIC-LOCATION:Europe/Berlin
BEGIN:DAYLIGHT
DTSTART:20260329T030000
TZOFFSETFROM:+0100
TZOFFSETTO:+0200
TZNAME:CEST
END:DAYLIGHT
END:VTIMEZONE
END:VCALENDAR