BEGIN:VCALENDAR
VERSION:2.0
PRODID:-//wp-events-plugin.com//7.2.3.1//EN
TZID:Europe/Berlin
X-WR-TIMEZONE:Europe/Berlin
BEGIN:VEVENT
UID:587@xc-run.de
DTSTART;TZID=Europe/Berlin;VALUE=DATE:20260627
DTEND;TZID=Europe/Berlin;VALUE=DATE:20260629
DTSTAMP:20260417T135335Z
URL:https://xc-run.de/events/eventkalender/ultra-x-finnland/
SUMMARY:Ultra X Finnland
DESCRIPTION:Ultra X Finland ist ein Ultramarathon-Event\, das im UNESCO Glo
 bal Geopark Salpausselkä in der Region Lahti im Süden Finnlands stattfin
 det. Das Land der tausend Seen und der Mitternachtssonne bietet mit seinen
  ruhigen Wäldern einen fantastischen Ort für Trailrunning und um sich wi
 eder mit der Natur zu verbinden.
ATTACH;FMTTYPE=image/jpeg:https://xc-run.de/wp-content/uploads/2025/07/Kal
 enderOhne.jpg
CATEGORIES:Trailevents
LOCATION:Lahti\, Lahti\, Finnland
GEO:60.982675;25.66121
X-APPLE-STRUCTURED-LOCATION;VALUE=URI;X-ADDRESS=Lahti\, Finnland;X-APPLE-RA
 DIUS=100;X-TITLE=Lahti:geo:60.982675,25.66121
END:VEVENT
BEGIN:VTIMEZONE
TZID:Europe/Berlin
X-LIC-LOCATION:Europe/Berlin
BEGIN:DAYLIGHT
DTSTART:20260329T030000
TZOFFSETFROM:+0100
TZOFFSETTO:+0200
TZNAME:CEST
END:DAYLIGHT
END:VTIMEZONE
END:VCALENDAR