BEGIN:VCALENDAR
VERSION:2.0
PRODID:-//wp-events-plugin.com//7.2.3.1//EN
TZID:Europe/Berlin
X-WR-TIMEZONE:Europe/Berlin
BEGIN:VEVENT
UID:316@xc-run.de
DTSTART;TZID=Europe/Berlin;VALUE=DATE:20260424
DTEND;TZID=Europe/Berlin;VALUE=DATE:20260426
DTSTAMP:20250915T194732Z
URL:https://xc-run.de/events/eventkalender/ultratrail-fraenkische-schweiz-
 utfs-2023/
SUMMARY:Ultratrail Fränkische Schweiz UTFS
DESCRIPTION:Längst als Auftaktrennen der nationalen Trailrunning Saison et
 abliert\, geht der Ultratrail Fränkische Schweiz in die fünfte Runde. Vo
 n Ebermannstadt aus geht es über unzählige knackige Anstiege quer durch 
 die fränkische Schweiz. Mit Distanzen von 66 km und 33 km führen die Str
 ecken über traumhafte Trails durch herrliche Täler\, vorbei an imposante
 n Felsformationen und hinauf zu zahlreichen Bergkegel.
ATTACH;FMTTYPE=image/jpeg:https://xc-run.de/wp-content/uploads/2025/07/Kal
 enderOhne.jpg
CATEGORIES:Trailevents
LOCATION:Ebermannstadt\, Am Marktplatz\, Ebermannstadt\, Bayern\, 91320\, O
 berfranken\, Deutschland
GEO:49.780231;11.187337
X-APPLE-STRUCTURED-LOCATION;VALUE=URI;X-ADDRESS=Am Marktplatz\, Ebermannsta
 dt\, Bayern\, 91320\, Oberfranken\, Deutschland;X-APPLE-RADIUS=100;X-TITLE
 =Ebermannstadt:geo:49.780231,11.187337
END:VEVENT
BEGIN:VTIMEZONE
TZID:Europe/Berlin
X-LIC-LOCATION:Europe/Berlin
BEGIN:DAYLIGHT
DTSTART:20260329T030000
TZOFFSETFROM:+0100
TZOFFSETTO:+0200
TZNAME:CEST
END:DAYLIGHT
END:VTIMEZONE
END:VCALENDAR