BEGIN:VCALENDAR
VERSION:2.0
PRODID:-//wp-events-plugin.com//7.2.3.1//EN
TZID:Europe/Berlin
X-WR-TIMEZONE:Europe/Berlin
BEGIN:VEVENT
UID:460@xc-run.de
DTSTART;TZID=Europe/Berlin;VALUE=DATE:20260701
DTEND;TZID=Europe/Berlin;VALUE=DATE:20260706
DTSTAMP:20251020T190925Z
URL:https://xc-run.de/events/eventkalender/val-daran-pyrenees-by-utmb/
SUMMARY:Val d´Aran Pyrenees by UTMB
DESCRIPTION:Als einziges Tal der spanischen Pyrenäen liegt das Val d’Ara
 n nördlich des Hauptkamms der Pyrenäen und ist somit durch eine Bergkett
 e vom spanischen Katalonien abgetrennt. Dies stellt für die Läufer diese
 r Veranstaltung kein Hindernis dar\, so dass man auf den einzelnen Strecke
 n die schönsten Bergdörfer der Pyrenäen durchquert\, am Gletscherseekes
 sel Colomers mit seinen 50 Seen entlang läuft und einige der imposanteste
 n Gipel des Val d´Aran  erklimmt. Bei diesem Event werden Strecken zwisc
 hen 15 km und 163 km angeboten.
ATTACH;FMTTYPE=image/jpeg:https://xc-run.de/wp-content/uploads/2025/07/UTM
 B.jpg
CATEGORIES:Trailevents,UTMB World Series
LOCATION:Vielha\, Avenguda Deth Pas D´Arro\, Vielha\, Spanien
GEO:42.700228;0.798753
X-APPLE-STRUCTURED-LOCATION;VALUE=URI;X-ADDRESS=Avenguda Deth Pas D´Arro\,
  Vielha\, Spanien;X-APPLE-RADIUS=100;X-TITLE=Vielha:geo:42.700228,0.798753
END:VEVENT
BEGIN:VTIMEZONE
TZID:Europe/Berlin
X-LIC-LOCATION:Europe/Berlin
BEGIN:DAYLIGHT
DTSTART:20260329T030000
TZOFFSETFROM:+0100
TZOFFSETTO:+0200
TZNAME:CEST
END:DAYLIGHT
END:VTIMEZONE
END:VCALENDAR