BEGIN:VCALENDAR
VERSION:2.0
PRODID:-//wp-events-plugin.com//7.2.3.1//EN
TZID:Europe/Berlin
X-WR-TIMEZONE:Europe/Berlin
BEGIN:VEVENT
UID:549@xc-run.de
DTSTART;TZID=Europe/Berlin;VALUE=DATE:20260626
DTEND;TZID=Europe/Berlin;VALUE=DATE:20260628
DTSTAMP:20251203T194917Z
URL:https://xc-run.de/events/eventkalender/veitscher-skytrail/
SUMMARY:Veitscher Skytrail
DESCRIPTION:Seit 1987 wird der Veitscher Grenzstaffellauf mir Rund 54km als
  Einzellauf und Staffellauf entlang der Gemeindegrenze von St. Barbara im 
 Mürztal als einer der ältesten Trailrunningveranstaltungen Österreichs 
 durchgeführt.\nAb 2026 wird diese Traditionsveranstaltung durch B-TRAIL.E
 vents mit weiteren Bewerben wie Kids Trail 500m bis 1500m\, Vertical Race 
 3\,75km und 918+\, Easy Trail + Nordic Walking 7\,74km und 453+\, Speed Tr
 ail 16\,59km und 1116+\, Skyrace 20.32km 1922+zum klassischen Grenzstaffel
 lauf nun als Marathon Trail mit 54km und 2511+ durchgeführt. Das Eventgel
 ände mit Start/Ziel wird direkt am Fuß der Hohen Veitsch auf die Brunnal
 m verschoben und mit gewohnten Highlights durch B-Trail.Events bestückt.
ATTACH;FMTTYPE=image/jpeg:https://xc-run.de/wp-content/uploads/2025/11/Vei
 tscher-Skytrail.jpeg
CATEGORIES:Trailevents
LOCATION:Brunnalm\, Brunnalmstraße 1\, St. Barbara im Mürztal\, 8664\, Ö
 sterreich
GEO:47.632222;15.429759
X-APPLE-STRUCTURED-LOCATION;VALUE=URI;X-ADDRESS=Brunnalmstraße 1\, St. Bar
 bara im Mürztal\, 8664\, Österreich;X-APPLE-RADIUS=100;X-TITLE=Brunnalm:
 geo:47.632222,15.429759
END:VEVENT
BEGIN:VTIMEZONE
TZID:Europe/Berlin
X-LIC-LOCATION:Europe/Berlin
BEGIN:DAYLIGHT
DTSTART:20260329T030000
TZOFFSETFROM:+0100
TZOFFSETTO:+0200
TZNAME:CEST
END:DAYLIGHT
END:VTIMEZONE
END:VCALENDAR