BEGIN:VCALENDAR
VERSION:2.0
PRODID:-//wp-events-plugin.com//7.2.3.1//EN
TZID:Europe/Berlin
X-WR-TIMEZONE:Europe/Berlin
BEGIN:VEVENT
UID:484@xc-run.de
DTSTART;TZID=Europe/Berlin;VALUE=DATE:20260918
DTEND;TZID=Europe/Berlin;VALUE=DATE:20260920
DTSTAMP:20260205T204814Z
URL:https://xc-run.de/events/eventkalender/vertical-nordkette-run-from-cit
 y-to-peak/
SUMMARY:Vertical Nordkette Run - from city to peak
DESCRIPTION:Der Nordkette Vertical Run ist ein fix etablierter Klassiker in
  Innsbruck und führt von der Stadt hinauf auf die Seegrube mit spektakul
 ärer Aussicht auf Innsbruck. Auf 6\,7 Kilometern und 1.332 Höhenmetern v
 erläuft die legendäre Vertical-Strecke vom Löwenhaus entlang des Inns\,
  über den Hans-Psenner-Steg\, den Heinrich-S.-Weg zum Alpenzoo und weiter
  zur Hungerburg\, bevor der steile Seilbahnsteig mit seinen „Wadlbeißer
 “-Stufen im Schlussabschnitt alle Kräfte fordert.
ATTACH;FMTTYPE=image/jpeg:https://xc-run.de/wp-content/uploads/2026/02/Nor
 dkette-Vertical-Run-2025-354.jpg
CATEGORIES:Berglauf
LOCATION:Innsbruck\, Rennweg\, Innsbruck\, Tirol\, Österreich
GEO:47.27518;11.397595
X-APPLE-STRUCTURED-LOCATION;VALUE=URI;X-ADDRESS=Rennweg\, Innsbruck\, Tirol
 \, Österreich;X-APPLE-RADIUS=100;X-TITLE=Innsbruck:geo:47.27518,11.397595
END:VEVENT
BEGIN:VTIMEZONE
TZID:Europe/Berlin
X-LIC-LOCATION:Europe/Berlin
BEGIN:DAYLIGHT
DTSTART:20260329T030000
TZOFFSETFROM:+0100
TZOFFSETTO:+0200
TZNAME:CEST
END:DAYLIGHT
END:VTIMEZONE
END:VCALENDAR