BEGIN:VCALENDAR
VERSION:2.0
PRODID:-//wp-events-plugin.com//7.2.3.1//EN
TZID:Europe/Berlin
X-WR-TIMEZONE:Europe/Berlin
BEGIN:VEVENT
UID:582@xc-run.de
DTSTART;TZID=Europe/Berlin;VALUE=DATE:20260606
DTEND;TZID=Europe/Berlin;VALUE=DATE:20260608
DTSTAMP:20260417T125836Z
URL:https://xc-run.de/events/eventkalender/vestfold-historic-ultra-trail/
SUMMARY:Vestfold Historic Ultra Trail
DESCRIPTION:Ein Trailrun mit maximal nur 6% Asphaltanteil (bei den 82 km si
 nd es sogar nur 3%) und auch noch auf historischen Spuren in der Wildnis N
 orwegens? Ein wahrgewordener Traum!
ATTACH;FMTTYPE=image/jpeg:https://xc-run.de/wp-content/uploads/2025/07/Kal
 enderOhne.jpg
CATEGORIES:Trailevents
LOCATION:Vestfold\, Vestfold\, Norwegen
GEO:59.170786;10.114436
X-APPLE-STRUCTURED-LOCATION;VALUE=URI;X-ADDRESS=Vestfold\, Norwegen;X-APPLE
 -RADIUS=100;X-TITLE=Vestfold:geo:59.170786,10.114436
END:VEVENT
BEGIN:VTIMEZONE
TZID:Europe/Berlin
X-LIC-LOCATION:Europe/Berlin
BEGIN:DAYLIGHT
DTSTART:20260329T030000
TZOFFSETFROM:+0100
TZOFFSETTO:+0200
TZNAME:CEST
END:DAYLIGHT
END:VTIMEZONE
END:VCALENDAR