BEGIN:VCALENDAR
VERSION:2.0
PRODID:-//wp-events-plugin.com//7.2.3.1//EN
TZID:Europe/Berlin
X-WR-TIMEZONE:Europe/Berlin
BEGIN:VEVENT
UID:554@xc-run.de
DTSTART;TZID=Europe/Berlin;VALUE=DATE:20261002
DTEND;TZID=Europe/Berlin;VALUE=DATE:20261004
DTSTAMP:20251125T205151Z
URL:https://xc-run.de/events/eventkalender/wachau-trail/
SUMMARY:Wachau Trail
DESCRIPTION:Der Wachau Trail ist wie ein großes Abenteuer für jedermann i
 n der lieblichen Natur zwischen  Melk und Krems.  Im Jahr 2000 wurde die
 se malerische Gegend als Kulturlandschaft Wachau mit den Stiften Melk und
  Göttweig sowie der Altstadt von Krems in die Liste des UNESCO-Weltk
 ultur- und -Naturerbes aufgenommen. Beim Wachau Trail können die Läufer\
 , Walker und Wanderer aus 7 unterschiedlichen Distanzen zwischen 10km und 
 160km auswählen.
ATTACH;FMTTYPE=image/jpeg:https://xc-run.de/wp-content/uploads/2025/07/Kal
 enderOhne.jpg
CATEGORIES:Trailevents
LOCATION:Krems an der Donau\, Josef-Wichner-Straße\, Krems an der Donau\, 
 Österreich
GEO:48.408828;15.595633
X-APPLE-STRUCTURED-LOCATION;VALUE=URI;X-ADDRESS=Josef-Wichner-Straße\, Kre
 ms an der Donau\, Österreich;X-APPLE-RADIUS=100;X-TITLE=Krems an der Dona
 u:geo:48.408828,15.595633
END:VEVENT
BEGIN:VTIMEZONE
TZID:Europe/Berlin
X-LIC-LOCATION:Europe/Berlin
BEGIN:DAYLIGHT
DTSTART:20260329T030000
TZOFFSETFROM:+0100
TZOFFSETTO:+0200
TZNAME:CEST
END:DAYLIGHT
END:VTIMEZONE
END:VCALENDAR