BEGIN:VCALENDAR
VERSION:2.0
PRODID:-//wp-events-plugin.com//7.2.3.1//EN
TZID:Europe/Berlin
X-WR-TIMEZONE:Europe/Berlin
BEGIN:VEVENT
UID:408@xc-run.de
DTSTART;TZID=Europe/Berlin;VALUE=DATE:20260724
DTEND;TZID=Europe/Berlin;VALUE=DATE:20260727
DTSTAMP:20260102T203701Z
URL:https://xc-run.de/events/eventkalender/walser-trail-challenge-2/
SUMMARY:Walser Trail Challenge
DESCRIPTION:Bist du bereit für eine Challenge? Anspruchsvoll. Alpin. Trail
 running pur. Ein Rennwochenende voller Herausforderungen auf den schönste
 n Bergpfaden im Kleinwalsertal. Hier kennen wir jeden Stein. Wir wissen\, 
 wie kräftezehrend die Anstiege sein können\, wie sehr du dich im Downhil
 l auf jeden Schritt konzentrieren musst. Und wir kennen das unbeschreiblic
 he Gefühl\, wenn „es läuft“\, auf diesem schmalen Singletrail inmitt
 en der atemberaubenden Bergwelt.
ATTACH;FMTTYPE=image/jpeg:https://xc-run.de/wp-content/uploads/2025/07/Kal
 enderOhne.jpg
CATEGORIES:Etappenrennen,Trailevents
LOCATION:Terrex Walser Trail Challenge\, Schwarzwassertalstraße 31\, Hirsc
 hegg\, Vorarlberg\, 6992\, Kleinwalsertal\, Österreich
GEO:47.353668;10.169755
X-APPLE-STRUCTURED-LOCATION;VALUE=URI;X-ADDRESS=Schwarzwassertalstraße 31\
 , Hirschegg\, Vorarlberg\, 6992\, Kleinwalsertal\, Österreich;X-APPLE-RAD
 IUS=100;X-TITLE=Terrex Walser Trail Challenge:geo:47.353668,10.169755
END:VEVENT
BEGIN:VTIMEZONE
TZID:Europe/Berlin
X-LIC-LOCATION:Europe/Berlin
BEGIN:DAYLIGHT
DTSTART:20260329T030000
TZOFFSETFROM:+0100
TZOFFSETTO:+0200
TZNAME:CEST
END:DAYLIGHT
END:VTIMEZONE
END:VCALENDAR