BEGIN:VCALENDAR
VERSION:2.0
PRODID:-//wp-events-plugin.com//7.2.3.1//EN
TZID:Europe/Berlin
X-WR-TIMEZONE:Europe/Berlin
BEGIN:VEVENT
UID:466@xc-run.de
DTSTART;TZID=Europe/Berlin;VALUE=DATE:20260725
DTEND;TZID=Europe/Berlin;VALUE=DATE:20260727
DTSTAMP:20251225T162328Z
URL:https://xc-run.de/events/eventkalender/weinheim-trails-2/
SUMMARY:Weinheim Trails
DESCRIPTION:Bei den Weinheim Trails erwarten die Läufer wieder ein Mix aus
   Single Trails\, breiten Forstwegen und rasanten Downhills mit abschlie
 ßendem Zieleinlauf auf dem Weinheimer Marktplatz.
ATTACH;FMTTYPE=image/jpeg:https://xc-run.de/wp-content/uploads/2025/07/Kal
 enderOhne.jpg
CATEGORIES:Trailevents
LOCATION:Weinheim\, Birkenauer Talstraße 10\, Weinheim\, Baden Würtemberg
 \, 69469\, Deutschland
GEO:49.554553;8.672568
X-APPLE-STRUCTURED-LOCATION;VALUE=URI;X-ADDRESS=Birkenauer Talstraße 10\, 
 Weinheim\, Baden Würtemberg\, 69469\, Deutschland;X-APPLE-RADIUS=100;X-TI
 TLE=Weinheim:geo:49.554553,8.672568
END:VEVENT
BEGIN:VTIMEZONE
TZID:Europe/Berlin
X-LIC-LOCATION:Europe/Berlin
BEGIN:DAYLIGHT
DTSTART:20260329T030000
TZOFFSETFROM:+0100
TZOFFSETTO:+0200
TZNAME:CEST
END:DAYLIGHT
END:VTIMEZONE
END:VCALENDAR