BEGIN:VCALENDAR
VERSION:2.0
PRODID:-//wp-events-plugin.com//7.2.3.1//EN
TZID:Europe/Berlin
X-WR-TIMEZONE:Europe/Berlin
BEGIN:VEVENT
UID:542@xc-run.de
DTSTART;TZID=Europe/Berlin;VALUE=DATE:20260904
DTEND;TZID=Europe/Berlin;VALUE=DATE:20260906
DTSTAMP:20251017T191032Z
URL:https://xc-run.de/events/eventkalender/wildman-harz/
SUMMARY:Wildman Harz
DESCRIPTION:Der Sage nach lebte vor langer Zeit\, tief verborgen in den dic
 hten Wäldern der Harzer Berge\, ein wilder Mann. Dort\, wo er damals von 
 Bergleuten in einem abgelegenen Flusstal entdeckt wurde\, liegt heute ein 
 kleiner Ort\, der seinen Namen trägt: die Bergstadt Wildemann. Zu Ehren d
 es Wilden Mannes geht es beim Wildman Harz über seine Trails. Über knack
 ige Anstiege und technische Downhills geht es durch Fichtenwälder und üb
 er Almwiesen. Über Stock und Stein und schöne Trails geht es 55\, 35\, 2
 0 oder 12 km durch die Harzer Berge rund um die kleine Bergstadt Wildemann
 .
ATTACH;FMTTYPE=image/jpeg:https://xc-run.de/wp-content/uploads/2025/07/Kal
 enderOhne.jpg
CATEGORIES:Trailevents
LOCATION:Wildemann\, Am Sanickl\, Wildemann\, Deutschland
GEO:51.833653;10.287511
X-APPLE-STRUCTURED-LOCATION;VALUE=URI;X-ADDRESS=Am Sanickl\, Wildemann\, De
 utschland;X-APPLE-RADIUS=100;X-TITLE=Wildemann:geo:51.833653,10.287511
END:VEVENT
BEGIN:VTIMEZONE
TZID:Europe/Berlin
X-LIC-LOCATION:Europe/Berlin
BEGIN:DAYLIGHT
DTSTART:20260329T030000
TZOFFSETFROM:+0100
TZOFFSETTO:+0200
TZNAME:CEST
END:DAYLIGHT
END:VTIMEZONE
END:VCALENDAR