BEGIN:VCALENDAR
VERSION:2.0
PRODID:-//wp-events-plugin.com//7.2.3.1//EN
TZID:Europe/Berlin
X-WR-TIMEZONE:Europe/Berlin
BEGIN:VEVENT
UID:518@xc-run.de
DTSTART;TZID=Europe/Berlin;VALUE=DATE:20260513
DTEND;TZID=Europe/Berlin;VALUE=DATE:20260515
DTSTAMP:20251219T202600Z
URL:https://xc-run.de/events/eventkalender/witiker-backyard-ultra/
SUMMARY:Witiker Backyard Ultra
DESCRIPTION:Der Witiker Backyard Ultra ist einer der ersten dieses Rennform
 ats und wird seit dem Jahr 2020 ausgetragen. Die Strecke ist ein Rundkur
 s von 6\,706 Kilometern mit einem Höhenprofil von etwa 125 Metern. Es wir
 d durchgehend auf befestigten Forstwegen gelaufen. Es gibt nur eine Streck
 e\, d.h. es wird nicht wie bei manchen anderen Backyard Veranstaltungen zw
 ischen Tag- und Nachstrecke unterschieden.
ATTACH;FMTTYPE=image/jpeg:https://xc-run.de/wp-content/uploads/2025/07/Kal
 enderOhne.jpg
CATEGORIES:Backyard
LOCATION:Witikon\, Witikoner Straße\, Witikon\, Schweiz
GEO:47.360011;8.595097
X-APPLE-STRUCTURED-LOCATION;VALUE=URI;X-ADDRESS=Witikoner Straße\, Witikon
 \, Schweiz;X-APPLE-RADIUS=100;X-TITLE=Witikon:geo:47.360011,8.595097
END:VEVENT
BEGIN:VTIMEZONE
TZID:Europe/Berlin
X-LIC-LOCATION:Europe/Berlin
BEGIN:DAYLIGHT
DTSTART:20260329T030000
TZOFFSETFROM:+0100
TZOFFSETTO:+0200
TZNAME:CEST
END:DAYLIGHT
END:VTIMEZONE
END:VCALENDAR