BEGIN:VCALENDAR
VERSION:2.0
PRODID:-//wp-events-plugin.com//7.2.3.1//EN
TZID:Europe/Berlin
X-WR-TIMEZONE:Europe/Berlin
BEGIN:VEVENT
UID:440@xc-run.de
DTSTART;TZID=Europe/Berlin;VALUE=DATE:20260627
DTEND;TZID=Europe/Berlin;VALUE=DATE:20260628
DTSTAMP:20250821T090446Z
URL:https://xc-run.de/events/eventkalender/x-trail-deutschlands-haertester
 -halbmarathon/
SUMMARY:X- Trail Breitnau
DESCRIPTION:X-Trail bietet für Läufer und Nordic Walker\, für Groß und 
 Klein gleichermaßen an einem Tag interessante und spannende Wettkämpfe!\
 nEs wird insgesamt 6 Läufe auf zum Teil unterschiedlichen Strecken und f
 ür verschiedene Altersklassen geben.\n„XT-Run“ ist der beliebte Cross
 lauf\, „XT-NordicWalk“  als Nordic-Walking-Lauf für Jung und Alt\, 
 „XT-Hindernissprint“ ist der neu geschaffene Sprintlauf für die Alter
 sklassen U8-U15\, der auf kompakter Strecke auch Unterhaltung für die and
 eren Laufteilnehmer bieten wird. „XT-Bambini“ ist der neue Lauf für d
 ie jüngsten Sportler\, die auf einer eigenen kurzen Strecke den Großen n
 acheifern können.
ATTACH;FMTTYPE=image/jpeg:https://xc-run.de/wp-content/uploads/2025/07/Kal
 enderOhne.jpg
CATEGORIES:Trailevents
LOCATION:Breitnau\, St.-Oswald-Weg 3\, Breitnau\, Deutschland
GEO:47.940536;8.077286
X-APPLE-STRUCTURED-LOCATION;VALUE=URI;X-ADDRESS=St.-Oswald-Weg 3\, Breitnau
 \, Deutschland;X-APPLE-RADIUS=100;X-TITLE=Breitnau:geo:47.940536,8.077286
END:VEVENT
BEGIN:VTIMEZONE
TZID:Europe/Berlin
X-LIC-LOCATION:Europe/Berlin
BEGIN:DAYLIGHT
DTSTART:20260329T030000
TZOFFSETFROM:+0100
TZOFFSETTO:+0200
TZNAME:CEST
END:DAYLIGHT
END:VTIMEZONE
END:VCALENDAR