BEGIN:VCALENDAR
VERSION:2.0
PRODID:-//wp-events-plugin.com//7.2.3.1//EN
TZID:Europe/Berlin
X-WR-TIMEZONE:Europe/Berlin
BEGIN:VEVENT
UID:584@xc-run.de
DTSTART;TZID=Europe/Berlin;VALUE=DATE:20260711
DTEND;TZID=Europe/Berlin;VALUE=DATE:20260712
DTSTAMP:20260417T132245Z
URL:https://xc-run.de/events/eventkalender/xtremeidfjord/
SUMMARY:XTREMEIDFJORD
DESCRIPTION:Der Hardangerjøkulen Ultra und der Hardangervidda Maraton sind
  zwei Läufe\, die Ihnen den Atem rauben werden! Und das im wahrsten Sinne
  des Wortes. Die Strecke führt Sie um einen der schönsten Gletscher Norw
 egens\, den Hardangerjøkulen.
ATTACH;FMTTYPE=image/jpeg:https://xc-run.de/wp-content/uploads/2025/07/Kal
 enderOhne.jpg
CATEGORIES:Trailevents
LOCATION:Eidfjord\,  Eidfjord \, Norwegen
GEO:60.466629;7.068518
X-APPLE-STRUCTURED-LOCATION;VALUE=URI;X-ADDRESS= Eidfjord \, Norwegen;X-APP
 LE-RADIUS=100;X-TITLE=Eidfjord:geo:60.466629,7.068518
END:VEVENT
BEGIN:VTIMEZONE
TZID:Europe/Berlin
X-LIC-LOCATION:Europe/Berlin
BEGIN:DAYLIGHT
DTSTART:20260329T030000
TZOFFSETFROM:+0100
TZOFFSETTO:+0200
TZNAME:CEST
END:DAYLIGHT
END:VTIMEZONE
END:VCALENDAR