BEGIN:VCALENDAR
VERSION:2.0
PRODID:-//wp-events-plugin.com//7.2.3.1//EN
TZID:Europe/Berlin
X-WR-TIMEZONE:Europe/Berlin
BEGIN:VEVENT
UID:418@xc-run.de
DTSTART;TZID=Europe/Berlin;VALUE=DATE:20260516
DTEND;TZID=Europe/Berlin;VALUE=DATE:20260518
DTSTAMP:20251225T201706Z
URL:https://xc-run.de/events/eventkalender/zegama-aizkorri-2/
SUMMARY:Zegama Aizkorri
DESCRIPTION:Auch in diesem Jahr ist der Event Zegama Aizkorri fester Bestan
 dteil der Golden Trail Series. Der im Zentrum dieser Veranstaltung stehend
 e 1528 m hohe Aizkorri im Baskenland hat schon die meisten Ausnahmeathlete
 n der Skyrunning und Trailrunning Gemeinde gesehen. Und auch in diesem Jah
 r werden die großen Namen an der Startlinie erwartet. Daneben stehen viel
 e ambitionierte Hobbyläufer\, die das Glück haben\, über die höchsten 
 Gipfel des Baskenlandes zu laufen und dabei von den Zuschauern auf Schritt
  und Tritt angefeuert zu werden. Dabei verwandelt sich die kleine Ortschaf
 t Zegama\,mit knapp über 1.500 Einwohnern\, in ein Trailrunning-Epizentru
 m für dieses einzigartiges Wochenende. Neben dieser klassische Marathondi
 stanz mit 2.736 HM wird auch ein Vertical Kilometer angeboten.
ATTACH;FMTTYPE=image/jpeg:https://xc-run.de/wp-content/uploads/2025/07/GTW
 S.jpg
CATEGORIES:Golden Trail Series,Trailevents
LOCATION:Zegama\, Plaza Jose Maiora\, Zegama\, 20215\, Baskenland\, Spanien
GEO:43.065195;-2.486577
X-APPLE-STRUCTURED-LOCATION;VALUE=URI;X-ADDRESS=Plaza Jose Maiora\, Zegama\
 , 20215\, Baskenland\, Spanien;X-APPLE-RADIUS=100;X-TITLE=Zegama:geo:43.06
 5195,-2.486577
END:VEVENT
BEGIN:VTIMEZONE
TZID:Europe/Berlin
X-LIC-LOCATION:Europe/Berlin
BEGIN:DAYLIGHT
DTSTART:20260329T030000
TZOFFSETFROM:+0100
TZOFFSETTO:+0200
TZNAME:CEST
END:DAYLIGHT
END:VTIMEZONE
END:VCALENDAR