BEGIN:VCALENDAR
VERSION:2.0
PRODID:-//wp-events-plugin.com//7.2.3.1//EN
TZID:Europe/Berlin
X-WR-TIMEZONE:Europe/Berlin
BEGIN:VEVENT
UID:20@xc-run.de
DTSTART;TZID=Europe/Berlin;VALUE=DATE:20260703
DTEND;TZID=Europe/Berlin;VALUE=DATE:20260705
DTSTAMP:20251024T193447Z
URL:https://xc-run.de/events/eventkalender/zermatt-marathon/
SUMMARY:Zermatt Marathon
DESCRIPTION:Der Zermatt Marathon ist der drittgrößte Bergmarathon der Sch
 weiz. Mit Start im tiefsten Tal der Schweiz in St. Niklaus und Ziel auf de
 m Riffelberg oder Gornergrat ist der Zermatt Marathon die alpine Laufherau
 sforderung schlechthin und eine der anspruchsvollsten Marathonstrecken Eur
 opas. Auf den ersten 21 Kilometern von St. Niklaus bis Zermatt folgt der L
 auf in der Talebene weitgehend dem linken Vispaufer. In der Zermatter Bahn
 hofstrasse ist die Halbmarathondistanz erreicht. Von hier an folgt die Str
 ecke der Naturstrasse bis auf die Sunnegga. Über Gant erreicht man nach e
 iner flachen Passage die Riffelalp auf 2.222 m ü.M. Hier geht's erst rich
 tig los. Denn auf den letzten Kilometern müssen noch fast 400 Höhenmeter
  überwunden werden\, bis das Marathonziel auf 2.585m ü.M. auf dem Riffel
 berg erreicht ist.\n\nWenn die Läuferinnen und Läufer des Zermatt Marath
 ons bei der Kapelle auf dem Riffelberg das Ziel bereits in Griffnähe habe
 n\, haben die Ultra Zermatt Marathon-Läuferinnen und –läufer noch exak
 t 3\,4 km und happige 514 Höhenmeter vor sich. Die Aussicht auf dem Gorne
 rgrat\, auf 3.089 m.ü.M. ist einzigartig und wird für alle Strapazen ent
 schädigen.\n\nNeben diesen beiden sehr anspruchsvollen Strecken wird eine
  Halbmarathondistanz oder die Marathonstrecke als Staffelwettbewerb angebo
 ten.\n\nDie neugeschaffene Strecke Top 20 Run verläuft von Zermatt aus ü
 ber die Station Sunnegga bis zum Gorner Grat und ist exklusiv als Wertungs
 lauf der Golden Trail Series DACH.
ATTACH;FMTTYPE=image/jpeg:https://xc-run.de/wp-content/uploads/2025/07/Kal
 enderOhne.jpg
CATEGORIES:Golden Trail Series,Trailevents
LOCATION:St. Nikolaus\, Zermatt\, St. Nikolaus\, Schweiz
GEO:46.175925;7.804175299999997
X-APPLE-STRUCTURED-LOCATION;VALUE=URI;X-ADDRESS=Zermatt\, St. Nikolaus\, Sc
 hweiz;X-APPLE-RADIUS=100;X-TITLE=St. Nikolaus:geo:46.175925,7.804175299999
 997
END:VEVENT
BEGIN:VTIMEZONE
TZID:Europe/Berlin
X-LIC-LOCATION:Europe/Berlin
BEGIN:DAYLIGHT
DTSTART:20260329T030000
TZOFFSETFROM:+0100
TZOFFSETTO:+0200
TZNAME:CEST
END:DAYLIGHT
END:VTIMEZONE
END:VCALENDAR