BEGIN:VCALENDAR
VERSION:2.0
PRODID:-//wp-events-plugin.com//7.2.3.1//EN
TZID:Europe/Berlin
X-WR-TIMEZONE:Europe/Berlin
BEGIN:VEVENT
UID:167@xc-run.de
DTSTART;TZID=Europe/Berlin;VALUE=DATE:20260618
DTEND;TZID=Europe/Berlin;VALUE=DATE:20260621
DTSTAMP:20251105T201847Z
URL:https://xc-run.de/events/eventkalender/zugspitz-ultra-trail-3/
SUMMARY:Zugspitz Ultratrail by UTMB
DESCRIPTION:Die Nachricht schlug ein wie eine Bombe: Der Zugspitz Ultratrai
 l (ZUT) gehört zukünftig zur UTMB-Familie. Was bleibt ist die ZUT typisc
 he Combo aus Festivalstimmung\, herausfordernde Distanzen und internationa
 ler Trail-Community. Bei den gewohnten und beliebten Distanzen dürfte es 
 keine Änderungen geben und der 2025 erstmals ausgetragene ZUT100 dürfte 
 auch wieder am Start sein.
ATTACH;FMTTYPE=image/jpeg:https://xc-run.de/wp-content/uploads/2025/07/UTM
 B.jpg
CATEGORIES:Golden Trail Series,Trailevents
LOCATION:Garmisch-Partenkirchen\, Richard-Strauss-Platz\, Garmisch-Partenki
 rchen\, Bayern\, Deutschland
GEO:47.494916;11.092185
X-APPLE-STRUCTURED-LOCATION;VALUE=URI;X-ADDRESS=Richard-Strauss-Platz\, Gar
 misch-Partenkirchen\, Bayern\, Deutschland;X-APPLE-RADIUS=100;X-TITLE=Garm
 isch-Partenkirchen:geo:47.494916,11.092185
END:VEVENT
BEGIN:VTIMEZONE
TZID:Europe/Berlin
X-LIC-LOCATION:Europe/Berlin
BEGIN:DAYLIGHT
DTSTART:20260329T030000
TZOFFSETFROM:+0100
TZOFFSETTO:+0200
TZNAME:CEST
END:DAYLIGHT
END:VTIMEZONE
END:VCALENDAR